BEGIN:VCALENDAR
VERSION:2.0
PRODID:GlueUp
CALSCALE:GREGORIAN
BEGIN:VTIMEZONE
TZID:UTC
BEGIN:STANDARD
DTSTART:19700101T000000
TZOFFSETFROM:+0000
TZOFFSETTO:+0000
TZNAME:UTC
END:STANDARD
END:VTIMEZONE
BEGIN:VEVENT
TZ:+00
ORGANIZER;CN=Office AmCham:MAILTO:rleung@amcham-southchina.org
UID:48054-1776956970@https://amcham-southchina.glueup.cn
DTSTAMP:20260423T150930Z
DTSTART:20250910T063000Z
DTEND:20250910T100000Z
SUMMARY:2025 广州开发区智能制造产业发展对接活动
DESCRIPTION:2025 广州开发区智能制造产业发展对接活动 by AmCham South China\n\nSep 10, 2025 (14:30 - 18:00)(GMT+8)\n\nFor more information, click here: https://amcham-southchina.glueup.cn/my/events/48054
LOCATION:广州汇华希尔顿逸林酒店 - 黄埔区水西路18号 广州市 - 广东省
BEGIN:VALARM
TRIGGER:-PT48H
REPEAT:4
DURATION:PT30M
ACTION:DISPLAY
END:VALARM
END:VEVENT
END:VCALENDAR