BEGIN:VCALENDAR
VERSION:2.0
PRODID:GlueUp
CALSCALE:GREGORIAN
BEGIN:VTIMEZONE
TZID:UTC
BEGIN:STANDARD
DTSTART:19700101T000000
TZOFFSETFROM:+0000
TZOFFSETTO:+0000
TZNAME:UTC
END:STANDARD
END:VTIMEZONE
BEGIN:VEVENT
TZ:+00
ORGANIZER;CN=HRMA Committee:MAILTO:amchamschrma@amcham-southchina.org
UID:44848-1776961578@https://amcham-southchina.glueup.cn
DTSTAMP:20260423T162618Z
DTSTART:20240811T160001Z
DTEND:20240929T160001Z
SUMMARY:2024 AmCham's  Best Practice Innovation Pioneer Award: Normination and Sponsorship Calling
DESCRIPTION:2024 AmCham's  Best Practice Innovation Pioneer Award: Normination and Sponsorship Calling by AmCham South China\n\nAug 12, 2024 to Sep 30, 2024(GMT+8)\n\nFor more information, click here: https://amcham-southchina.glueup.cn/my/events/44848
LOCATION:广州
BEGIN:VALARM
TRIGGER:-PT48H
REPEAT:4
DURATION:PT30M
ACTION:DISPLAY
END:VALARM
END:VEVENT
END:VCALENDAR