BEGIN:VCALENDAR
VERSION:2.0
PRODID:GlueUp
CALSCALE:GREGORIAN
BEGIN:VTIMEZONE
TZID:UTC
BEGIN:STANDARD
DTSTART:19700101T000000
TZOFFSETFROM:+0000
TZOFFSETTO:+0000
TZNAME:UTC
END:STANDARD
END:VTIMEZONE
BEGIN:VEVENT
TZ:+00
ORGANIZER;CN=Dept. Event:MAILTO:rleung@amcham-southchina.org
UID:48492-1776962367@https://amcham-southchina.glueup.cn
DTSTAMP:20260423T163927Z
DTSTART:20251122T104500Z
DTEND:20251122T153000Z
SUMMARY:AmCham International Winter Ball on November 22nd, 2025
DESCRIPTION:AmCham International Winter Ball on November 22nd, 2025 by AmCham South China\n\nNov 22, 2025 (18:45 - 23:30)(GMT+8)\n\nFor more information, click here: https://amcham-southchina.glueup.cn/my/events/48492
LOCATION:广州花园酒店 - Guangzhou City - China
BEGIN:VALARM
TRIGGER:-PT48H
REPEAT:4
DURATION:PT30M
ACTION:DISPLAY
END:VALARM
END:VEVENT
END:VCALENDAR