BEGIN:VCALENDAR
VERSION:2.0
PRODID:GlueUp
CALSCALE:GREGORIAN
BEGIN:VTIMEZONE
TZID:UTC
BEGIN:STANDARD
DTSTART:19700101T000000
TZOFFSETFROM:+0000
TZOFFSETTO:+0000
TZNAME:UTC
END:STANDARD
END:VTIMEZONE
BEGIN:VEVENT
TZ:+00
ORGANIZER;CN=Office AmCham:MAILTO:rleung@amcham-southchina.org
UID:48731-1776958004@https://amcham-southchina.glueup.cn
DTSTAMP:20260423T152644Z
DTSTART:20251104T033000Z
DTEND:20251104T060000Z
SUMMARY:Luncheon Briefing on Meeting of Two Presidents
DESCRIPTION:Luncheon Briefing on Meeting of Two Presidents by AmCham South China\n\nNov 4, 2025 (11:30 - 14:00)(GMT+8)\n\nFor more information, click here: https://amcham-southchina.glueup.cn/my/events/48731
LOCATION:Garden Hotel - Guangzhou Shi - Guangdong Sheng - China
BEGIN:VALARM
TRIGGER:-PT48H
REPEAT:4
DURATION:PT30M
ACTION:DISPLAY
END:VALARM
END:VEVENT
END:VCALENDAR