BEGIN:VCALENDAR
VERSION:2.0
PRODID:GlueUp
CALSCALE:GREGORIAN
BEGIN:VTIMEZONE
TZID:UTC
BEGIN:STANDARD
DTSTART:19700101T000000
TZOFFSETFROM:+0000
TZOFFSETTO:+0000
TZNAME:UTC
END:STANDARD
END:VTIMEZONE
BEGIN:VEVENT
TZ:+00
ORGANIZER;CN=Office AmCham:MAILTO:rleung@amcham-southchina.org
UID:47185-1776957302@https://amcham-southchina.glueup.cn
DTSTAMP:20260423T151502Z
DTSTART:20250519T053000Z
DTEND:20250519T073000Z
SUMMARY:US-China Trade and Tariffs—Views from Washington (Presentation by Ambassador Craig Allen)
DESCRIPTION:US-China Trade and Tariffs—Views from Washington (Presentation by Ambassador Craig Allen) by AmCham South China\n\nMay 19, 2025 (13:30 - 15:30)(GMT+8)\n\nFor more information, click here: https://amcham-southchina.glueup.cn/my/events/47185
LOCATION:
BEGIN:VALARM
TRIGGER:-PT48H
REPEAT:4
DURATION:PT30M
ACTION:DISPLAY
END:VALARM
END:VEVENT
END:VCALENDAR