BEGIN:VCALENDAR
VERSION:2.0
PRODID:GlueUp
CALSCALE:GREGORIAN
BEGIN:VTIMEZONE
TZID:UTC
BEGIN:STANDARD
DTSTART:19700101T000000
TZOFFSETFROM:+0000
TZOFFSETTO:+0000
TZNAME:UTC
END:STANDARD
END:VTIMEZONE
BEGIN:VEVENT
TZ:+00
ORGANIZER;CN=Office AmCham:MAILTO:rleung@amcham-southchina.org
UID:49061-1776956591@https://amcham-southchina.glueup.cn
DTSTAMP:20260423T150311Z
DTSTART:20251217T060000Z
DTEND:20251217T093000Z
SUMMARY:内蒙古对外开放大湾区（广州）经贸洽谈活动
DESCRIPTION:内蒙古对外开放大湾区（广州）经贸洽谈活动 by AmCham South China\n\nDec 17, 2025 (14:00 - 17:30)(GMT+8)\n\nFor more information, click here: https://amcham-southchina.glueup.cn/my/events/49061
LOCATION:Garden Hotel - Guangzhou Shi - Guangdong Sheng - China
BEGIN:VALARM
TRIGGER:-PT48H
REPEAT:4
DURATION:PT30M
ACTION:DISPLAY
END:VALARM
END:VEVENT
END:VCALENDAR