BEGIN:VCALENDAR
VERSION:2.0
PRODID:GlueUp
CALSCALE:GREGORIAN
BEGIN:VTIMEZONE
TZID:UTC
BEGIN:STANDARD
DTSTART:19700101T000000
TZOFFSETFROM:+0000
TZOFFSETTO:+0000
TZNAME:UTC
END:STANDARD
END:VTIMEZONE
BEGIN:VEVENT
TZ:+00
ORGANIZER;CN=Office AmCham:MAILTO:rleung@amcham-southchina.org
UID:47269-1776956883@https://amcham-southchina.glueup.cn
DTSTAMP:20260423T150803Z
DTSTART:20250612T060000Z
DTEND:20250612T083000Z
SUMMARY:劳动法视角下的企业合规：虚假报销与外包劳动争议应对研讨会
DESCRIPTION:AmCham South China发布活动劳动法视角下的企业合规：虚假报销与外包劳动争议应对研讨会\n\n2025年06月12日（14:00 - 16:30）(GMT+8)\n\n更多信息，访问https://amcham-southchina.glueup.cn/my/events/47269
LOCATION:深圳深铁皇冠假日酒店 - 深圳深铁皇冠假日酒店
BEGIN:VALARM
TRIGGER:-PT48H
REPEAT:4
DURATION:PT30M
ACTION:DISPLAY
END:VALARM
END:VEVENT
END:VCALENDAR